BEGIN:VCALENDAR
VERSION:2.0
PRODID:-//AudioTheme 2.3.5
BEGIN:VEVENT
UID:urn:uuid:6f76a5e2-70cb-4a02-b20e-f93cd264522d
URL:https://openroads.de/workshops/wohnzimmer-konzert-i-bliss-release/
DTSTART;VALUE=DATE:20231110
SUMMARY:Wohnzimmer Konzert I BLISS Release
DESCRIPTION:Privates Wohnzimmerkonzert in Erlangen
LOCATION:Erlangen
END:VEVENT
END:VCALENDAR
